BEGIN:VCALENDAR
VERSION:2.0
PRODID:-//tennews//Event//DE
CALSCALE:GREGORIAN
METHOD:PUBLISH
BEGIN:VEVENT
UID:11@tennews.emergizmedia.de
DTSTAMP:20260419T141138Z
DTSTART:20260417T120000
DTEND:20260503T230000
SUMMARY:Münchner Frühlingsfest 2026
DESCRIPTION:Das kleine Oktoberfest auf der Theresienwiese
LOCATION:Theresienwiese, Theresienwiese, 80339, München
URL:https://tennews.emergizmedia.de/veranstaltung/muenchner-fruehlingsfest-2026
END:VEVENT
END:VCALENDAR
